BEGIN:VCALENDAR
VERSION:2.0
PRODID:-//NCBAA Northeast - ECPv6.15.17.1//NONSGML v1.0//EN
CALSCALE:GREGORIAN
METHOD:PUBLISH
X-ORIGINAL-URL:https://ncbaa-ne.org
X-WR-CALDESC:Events for NCBAA Northeast
REFRESH-INTERVAL;VALUE=DURATION:PT1H
X-Robots-Tag:noindex
X-PUBLISHED-TTL:PT1H
BEGIN:VTIMEZONE
TZID:America/New_York
BEGIN:DAYLIGHT
TZOFFSETFROM:-0500
TZOFFSETTO:-0400
TZNAME:EDT
DTSTART:20250309T070000
END:DAYLIGHT
BEGIN:STANDARD
TZOFFSETFROM:-0400
TZOFFSETTO:-0500
TZNAME:EST
DTSTART:20251102T060000
END:STANDARD
BEGIN:DAYLIGHT
TZOFFSETFROM:-0500
TZOFFSETTO:-0400
TZNAME:EDT
DTSTART:20260308T070000
END:DAYLIGHT
BEGIN:STANDARD
TZOFFSETFROM:-0400
TZOFFSETTO:-0500
TZNAME:EST
DTSTART:20261101T060000
END:STANDARD
BEGIN:DAYLIGHT
TZOFFSETFROM:-0500
TZOFFSETTO:-0400
TZNAME:EDT
DTSTART:20270314T070000
END:DAYLIGHT
BEGIN:STANDARD
TZOFFSETFROM:-0400
TZOFFSETTO:-0500
TZNAME:EST
DTSTART:20271107T060000
END:STANDARD
END:VTIMEZONE
BEGIN:VEVENT
DTSTART;VALUE=DATE:20260319
DTEND;VALUE=DATE:20260321
DTSTAMP:20260420T032533
CREATED:20251118T191511Z
LAST-MODIFIED:20260126T162827Z
UID:3637-1773878400-1774051199@ncbaa-ne.org
SUMMARY:NCBAA Northeast 2026 Regional Conference
DESCRIPTION:NCBAA NORTHEAST 2026 REGIONAL CONFERENCE\n			\n				\n				\n				\n				\n				LEADING THROUGH CHANGE: EMPOWERING GROWTH\, INSPIRING RESILIENCE \n			\n			\n				\n				\n				\n				\n			\n				\n				\n				\n				\n				\n				\n				\n				\n				\n				\n				Date:March 19-20\, 2026 \n			\n				\n				\n				\n				\n				location:Morgan State UniversityMartin D. Jenkins HallBehavioral and Social Science CenterBaltimore\, Maryland \n			\n			\n				\n				\n				\n				\n			\n				\n				\n				\n				\n				\n				\n				\n				\n				\n				\n				HOSTED BY:MORGAN STATE UNIVERSITYCommunity College Leadership Doctoral Program \n			\n				REGISTER NOW\n			\n				CONFERENCE SCHEDULE\n			\n			\n				\n				\n				\n				\n			\n			\n				\n				\n			\n				\n				\n				\n				\n				\n				\n				\n				\n				\n				\n				\n				\n				\n				\n				\n				\n				\n				Dissertation of Year: Nominations Open\n			\n			\n				\n				\n				\n				\n			\n				\n				\n				\n				\n				\n				\n				\n				\n				\n				\n				\n			\n			\n				\n				\n				\n				\n				\n				\n				\n				\n				\n				The NCBAA Northeast Region is excited to announce the 2026 Dissertation of the Year Award\, celebrating outstanding doctoral research that makes a significant contribution to higher education. \n			\n				\n				\n				\n				\n				Don’t miss your opportunity to be a winner. Click the button below for more details. \n			\n				more info\n			\n			\n				\n				\n				\n				\n			\n				\n				\n				\n				\n				\n				\n			\n				\n				\n				\n				\n				\n			\n				\n				\n				\n				\n			\n				\n				\n				\n				\n				\n				\n				\n				\n				\n				\n				CONFERENCE: REGISTRATION\n			\n			\n				\n				\n				\n				\n			\n				\n				\n			\n				\n				\n				\n				\n				\n				\n				\n				\n				\n				\n				\n				\n				\n				\n				\n				\n				\n				EARLY REGISTRATION:(until Feb 20) \n			\n				\n				\n				\n				\n				Individual: $200\nGraduate Student: $125\nUndergraduate Student: $75\n			\n			\n				\n				\n				\n				\n				\n				\n				\n				\n				\n				REGULAR REGISTRATION:(Feb 21 – Mar 16) \n			\n				\n				\n				\n				\n				Individual: $210Graduate Student: $125Undergraduate Student: $75 \n			\n			\n				\n				\n				\n				\n				\n				\n				\n				\n				\n				LATE REGISTRATION:(after Mar 16) \n			\n				\n				\n				\n				\n				Individual: $225Graduate Student: $125Undergraduate Student: $75 \n			\n			\n				\n				\n				\n				\n			\n				\n				\n				\n				\n				\n				\n				\n				\n				\n				\n				NOTE: Registration submitted after March 16th not guaranteed a printed conference badge. \n			\n				\n				\n				\n				\n				Questions about registration? Please emailevents@ncbaa-ne.org \n			\n			\n				\n				\n				\n				\n				\n				REGISTER NOW\n			\n			\n				\n				\n				\n				\n			\n				\n				\n				\n				\n				\n				\n				\n				\n				\n				\n				Hotel: Delta Hotels Baltimore North\n			\n			\n				\n				\n				\n				\n			\n				\n				\n				\n				\n				\n				\n				\n				\n				\n				\n				\n			\n			\n				\n				\n				\n				\n			\n				\n				\n			\n				\n				\n				\n				\n				\n				\n				\n				\n				\n				\n				\n				\n				\n				\n				\n				\n				\n			\n				\n				\n				\n				\n				\n			\n			\n				\n				\n				\n				\n				\n				\n				\n				\n				\n				\n				\n				\n				\n				\n				\n				HOTEL ADDRESS:5100 Falls RoadBaltimore\, MD\, 21210Phone: 410-532-6900 \n			\n			\n				\n				\n				\n				\n				\n				\n				\n				\n				\n				NCBAA GROUP RATE$139.00 + taxNCBAA Group Rate available until Friday\, 3/6/2026 \n			\n			\n				\n				\n				\n				\n			\n				\n				\n				\n				\n				\n				\n				\n				\n				\n				\n				ROOM RATE INCLUDES:— Complimentary Breakfast Buffet— Complimentary on-site parking \n			\n				\n				\n				\n				\n				GROUP NAMENCBNCBA” or NCBAA Northeast Region Conference \n			\n			\n				\n				\n				\n				\n			\n			\n				\n				\n			\n				\n				\n				\n				\n				\n				\n				\n				\n				\n				\n				\n				\n				\n				\n				\n				\n				\n				Group Room Rate available for Wednesday\, 3/19 and Thursday\, 3/20 \n			\n			\n				\n				\n				\n				\n				\n				book room online\n			\n				\n				\n				\n				\n				or call the hotel at 410.532.6900
URL:https://ncbaa-ne.org/event/ncbaa-northeast-2026-regional-conference/
END:VEVENT
END:VCALENDAR