BEGIN:VCALENDAR
VERSION:2.0
PRODID:-//NCBAA Northeast - ECPv6.15.17.1//NONSGML v1.0//EN
CALSCALE:GREGORIAN
METHOD:PUBLISH
X-ORIGINAL-URL:https://ncbaa-ne.org
X-WR-CALDESC:Events for NCBAA Northeast
REFRESH-INTERVAL;VALUE=DURATION:PT1H
X-Robots-Tag:noindex
X-PUBLISHED-TTL:PT1H
BEGIN:VTIMEZONE
TZID:America/New_York
BEGIN:DAYLIGHT
TZOFFSETFROM:-0500
TZOFFSETTO:-0400
TZNAME:EDT
DTSTART:20240310T070000
END:DAYLIGHT
BEGIN:STANDARD
TZOFFSETFROM:-0400
TZOFFSETTO:-0500
TZNAME:EST
DTSTART:20241103T060000
END:STANDARD
BEGIN:DAYLIGHT
TZOFFSETFROM:-0500
TZOFFSETTO:-0400
TZNAME:EDT
DTSTART:20250309T070000
END:DAYLIGHT
BEGIN:STANDARD
TZOFFSETFROM:-0400
TZOFFSETTO:-0500
TZNAME:EST
DTSTART:20251102T060000
END:STANDARD
BEGIN:DAYLIGHT
TZOFFSETFROM:-0500
TZOFFSETTO:-0400
TZNAME:EDT
DTSTART:20260308T070000
END:DAYLIGHT
BEGIN:STANDARD
TZOFFSETFROM:-0400
TZOFFSETTO:-0500
TZNAME:EST
DTSTART:20261101T060000
END:STANDARD
END:VTIMEZONE
BEGIN:VEVENT
DTSTART;VALUE=DATE:20250320
DTEND;VALUE=DATE:20250322
DTSTAMP:20260420T102830
CREATED:20241008T193622Z
LAST-MODIFIED:20251117T205505Z
UID:2889-1742428800-1742601599@ncbaa-ne.org
SUMMARY:NCBAA Northeast 2025 Regional Conference
DESCRIPTION:NCBAA NORTHEAST 2025 REGIONAL CONFERENCE\n			\n				\n				\n				\n				\n				RACE FOR EQUITY: ACCELERATING INCLUSIVE PRACTICES \n			\n			\n				\n				\n				\n				\n			\n				\n				\n				\n				\n				\n				\n				\n				\n				\n				\n				Date:March 20-21\, 2025 \n			\n				\n				\n				\n				\n				location:Morgan State UniversityGraves School of Business and ManagementBaltimore\, Maryland \n			\n			\n				\n				\n				\n				\n			\n				\n				\n				\n				\n				\n				\n				\n				\n				\n				\n				HOSTED BY:MORGAN STATE UNIVERSITY\, CCLDP PROGRAM \n			\n				CONFERENCE AT A GLANCE\n			\n			\n				\n				\n				\n				\n			\n			\n				\n				\n			\n				\n				\n				\n				\n				\n				\n				\n				\n				\n				\n				\n				\n				\n				\n				\n				\n				\n				EARLY REGISTRATION:(until Feb 20) \n			\n				\n				\n				\n				\n				Individual: $175Graduate Student: $100 \n			\n			\n				\n				\n				\n				\n				\n				\n				\n				\n				\n				REGULAR REGISTRATION:(Feb 21 – Mar 16) \n			\n				\n				\n				\n				\n				Individual: $200Graduate Student: $110 \n			\n			\n				\n				\n				\n				\n				\n				\n				\n				\n				\n				LATE REGISTRATION:(after March 16) \n			\n				\n				\n				\n				\n				Individual: $210Graduate Student: $115 \n			\n			\n				\n				\n				\n				\n			\n				\n				\n				\n				\n				\n				\n				\n				\n				\n				\n				NOTE: Registration submitted after March 16th not guaranteed a printed conference badge. \n			\n				\n				\n				\n				\n				Questions about registration? Please email events@ncbaa-ne.org \n			\n			\n				\n				\n				\n				\n			\n				\n				\n				\n				\n				\n				\n				\n				\n				\n				\n				Hotel: Delta Hotels Baltimore North\n			\n			\n				\n				\n				\n				\n			\n				\n				\n				\n				\n				\n				\n				\n				\n				\n				\n				\n			\n			\n				\n				\n				\n				\n			\n				\n				\n			\n				\n				\n				\n				\n				\n				\n				\n				\n				\n				\n				\n				\n				\n				\n				\n				\n				\n			\n				\n				\n				\n				\n				\n			\n			\n				\n				\n				\n				\n				\n				\n				\n				\n				\n				\n				\n				\n				\n				\n				\n				HOTEL ADDRESS:5100 Falls RoadBaltimore\, MD\, 21210Phone: 410-532-6900 \n			\n			\n				\n				\n				\n				\n				\n				\n				\n				\n				\n				NCBAA GROUP RATE$139.00 + taxrate available until Thursday\, 2/27/2025 \n			\n			\n				\n				\n				\n				\n			\n				\n				\n				\n				\n				\n				\n				\n				\n				\n				\n				ROOM RATE INCLUDES:— Complimentary Breakfast Buffet— Complimentary on-site parking \n			\n			\n				\n				\n				\n				\n			\n				\n				\n				\n				\n				\n				\n				\n				\n				\n				\n				GROUP RATE BOOKING CODE:Book hotel using group rate “NCBAA-Northeast Regional Conference” \n			\n			\n				\n				\n				\n				\n			\n			\n				\n				\n			\n				\n				\n				\n				\n				\n				\n				\n				\n				\n				\n				\n				\n				\n				\n				\n				\n				\n				Group Room Rate available for Wednesday\, 3/19 and Thursday\, 3/20 \n			\n			\n				\n				\n				\n				\n				\n				book room online\n			\n				\n				\n				\n				\n				or call the hotel at 410.532.6900
URL:https://ncbaa-ne.org/event/2025-regional-conference/
CATEGORIES:Featured
ATTACH;FMTTYPE=image/png:https://ncbaa-ne.org/wp-content/uploads/2024/10/2025_regoinal_con_24.png
END:VEVENT
END:VCALENDAR